Workbook

Sheet Schedule
A1: Weekly Shift Schedule
A2: Pick a shift from each drop-down. Hours and daily staff counts update automatically.
A3: Week starting: | B3: 46312.875 | D3: Type the first day of the week (e.g. Sunday) in the yellow cell.
A5: Employee | B5: Role | C5: =$B$3+0 | D5: =$B$3+1 | E5: =$B$3+2 | F5: =$B$3+3 | G5: =$B$3+4 | H5: =$B$3+5 | I5: =$B$3+6 | J5: Total hours | K5: Days off | L5: Notes
A6: Sara Ali | B6: Supervisor | C6: Morning | D6: Morning | E6: OFF | F6: Morning | G6: Morning | H6: Evening | I6: OFF | J6: =IF(COUNTA(C6:I6)=0,"",SUMPRODUCT(COUNTIF(C6:I6,Shifts!$A$5:$A$10)*Shifts!$D$5:$D$10)) | K6: =IF(COUNTA(C6:I6)=0,"",COUNTIF(C6:I6,"OFF"))
A7: Omar Khalid | B7: Cashier | C7: Evening | D7: Evening | E7: Morning | F7: OFF | G7: Morning | H7: Morning | I7: OFF | J7: =IF(COUNTA(C7:I7)=0,"",SUMPRODUCT(COUNTIF(C7:I7,Shifts!$A$5:$A$10)*Shifts!$D$5:$D$10)) | K7: =IF(COUNTA(C7:I7)=0,"",COUNTIF(C7:I7,"OFF"))
A8: Noor Hassan | B8: Cashier | C8: OFF | D8: Morning | E8: Evening | F8: Evening | G8: Evening | H8: OFF | I8: Morning | J8: =IF(COUNTA(C8:I8)=0,"",SUMPRODUCT(COUNTIF(C8:I8,Shifts!$A$5:$A$10)*Shifts!$D$5:$D$10)) | K8: =IF(COUNTA(C8:I8)=0,"",COUNTIF(C8:I8,"OFF"))
A9: Ali Ahmed | B9: Sales | C9: Morning | D9: OFF | E9: Morning | F9: Morning | G9: Half day | H9: Evening | I9: Evening | J9: =IF(COUNTA(C9:I9)=0,"",SUMPRODUCT(COUNTIF(C9:I9,Shifts!$A$5:$A$10)*Shifts!$D$5:$D$10)) | K9: =IF(COUNTA(C9:I9)=0,"",COUNTIF(C9:I9,"OFF"))
A10: Huda Saleh | B10: Sales | C10: Evening | D10: Evening | E10: OFF | F10: Night | G10: Night | H10: OFF | I10: Morning | J10: =IF(COUNTA(C10:I10)=0,"",SUMPRODUCT(COUNTIF(C10:I10,Shifts!$A$5:$A$10)*Shifts!$D$5:$D$10)) | K10: =IF(COUNTA(C10:I10)=0,"",COUNTIF(C10:I10,"OFF"))
A11: Yousif Ebrahim | B11: Stock | C11: Morning | D11: Morning | E11: Morning | F11: OFF | G11: Leave | H11: Leave | I11: OFF | J11: =IF(COUNTA(C11:I11)=0,"",SUMPRODUCT(COUNTIF(C11:I11,Shifts!$A$5:$A$10)*Shifts!$D$5:$D$10)) | K11: =IF(COUNTA(C11:I11)=0,"",COUNTIF(C11:I11,"OFF"))
A12: Mariam Jaber | B12: Sales | C12: OFF | D12: Evening | E12: Evening | F12: Evening | G12: OFF | H12: Morning | I12: Morning | J12: =IF(COUNTA(C12:I12)=0,"",SUMPRODUCT(COUNTIF(C12:I12,Shifts!$A$5:$A$10)*Shifts!$D$5:$D$10)) | K12: =IF(COUNTA(C12:I12)=0,"",COUNTIF(C12:I12,"OFF"))
A13: Hamad Isa | B13: Cleaner | C13: Morning | D13: Morning | E13: Morning | F13: Morning | G13: OFF | H13: OFF | I13: Half day | J13: =IF(COUNTA(C13:I13)=0,"",SUMPRODUCT(COUNTIF(C13:I13,Shifts!$A$5:$A$10)*Shifts!$D$5:$D$10)) | K13: =IF(COUNTA(C13:I13)=0,"",COUNTIF(C13:I13,"OFF"))
J14: =IF(COUNTA(C14:I14)=0,"",SUMPRODUCT(COUNTIF(C14:I14,Shifts!$A$5:$A$10)*Shifts!$D$5:$D$10)) | K14: =IF(COUNTA(C14:I14)=0,"",COUNTIF(C14:I14,"OFF"))
J15: =IF(COUNTA(C15:I15)=0,"",SUMPRODUCT(COUNTIF(C15:I15,Shifts!$A$5:$A$10)*Shifts!$D$5:$D$10)) | K15: =IF(COUNTA(C15:I15)=0,"",COUNTIF(C15:I15,"OFF"))
J16: =IF(COUNTA(C16:I16)=0,"",SUMPRODUCT(COUNTIF(C16:I16,Shifts!$A$5:$A$10)*Shifts!$D$5:$D$10)) | K16: =IF(COUNTA(C16:I16)=0,"",COUNTIF(C16:I16,"OFF"))
J17: =IF(COUNTA(C17:I17)=0,"",SUMPRODUCT(COUNTIF(C17:I17,Shifts!$A$5:$A$10)*Shifts!$D$5:$D$10)) | K17: =IF(COUNTA(C17:I17)=0,"",COUNTIF(C17:I17,"OFF"))
J18: =IF(COUNTA(C18:I18)=0,"",SUMPRODUCT(COUNTIF(C18:I18,Shifts!$A$5:$A$10)*Shifts!$D$5:$D$10)) | K18: =IF(COUNTA(C18:I18)=0,"",COUNTIF(C18:I18,"OFF"))
J19: =IF(COUNTA(C19:I19)=0,"",SUMPRODUCT(COUNTIF(C19:I19,Shifts!$A$5:$A$10)*Shifts!$D$5:$D$10)) | K19: =IF(COUNTA(C19:I19)=0,"",COUNTIF(C19:I19,"OFF"))
J20: =IF(COUNTA(C20:I20)=0,"",SUMPRODUCT(COUNTIF(C20:I20,Shifts!$A$5:$A$10)*Shifts!$D$5:$D$10)) | K20: =IF(COUNTA(C20:I20)=0,"",COUNTIF(C20:I20,"OFF"))
J21: =IF(COUNTA(C21:I21)=0,"",SUMPRODUCT(COUNTIF(C21:I21,Shifts!$A$5:$A$10)*Shifts!$D$5:$D$10)) | K21: =IF(COUNTA(C21:I21)=0,"",COUNTIF(C21:I21,"OFF"))
J22: =IF(COUNTA(C22:I22)=0,"",SUMPRODUCT(COUNTIF(C22:I22,Shifts!$A$5:$A$10)*Shifts!$D$5:$D$10)) | K22: =IF(COUNTA(C22:I22)=0,"",COUNTIF(C22:I22,"OFF"))
J23: =IF(COUNTA(C23:I23)=0,"",SUMPRODUCT(COUNTIF(C23:I23,Shifts!$A$5:$A$10)*Shifts!$D$5:$D$10)) | K23: =IF(COUNTA(C23:I23)=0,"",COUNTIF(C23:I23,"OFF"))
J24: =IF(COUNTA(C24:I24)=0,"",SUMPRODUCT(COUNTIF(C24:I24,Shifts!$A$5:$A$10)*Shifts!$D$5:$D$10)) | K24: =IF(COUNTA(C24:I24)=0,"",COUNTIF(C24:I24,"OFF"))
J25: =IF(COUNTA(C25:I25)=0,"",SUMPRODUCT(COUNTIF(C25:I25,Shifts!$A$5:$A$10)*Shifts!$D$5:$D$10)) | K25: =IF(COUNTA(C25:I25)=0,"",COUNTIF(C25:I25,"OFF"))
A27: Staff on shift per day
B28: Morning | C28: =COUNTIF(C$6:C$25,$B28) | D28: =COUNTIF(D$6:D$25,$B28) | E28: =COUNTIF(E$6:E$25,$B28) | F28: =COUNTIF(F$6:F$25,$B28) | G28: =COUNTIF(G$6:G$25,$B28) | H28: =COUNTIF(H$6:H$25,$B28) | I28: =COUNTIF(I$6:I$25,$B28)
B29: Evening | C29: =COUNTIF(C$6:C$25,$B29) | D29: =COUNTIF(D$6:D$25,$B29) | E29: =COUNTIF(E$6:E$25,$B29) | F29: =COUNTIF(F$6:F$25,$B29) | G29: =COUNTIF(G$6:G$25,$B29) | H29: =COUNTIF(H$6:H$25,$B29) | I29: =COUNTIF(I$6:I$25,$B29)
B30: Night | C30: =COUNTIF(C$6:C$25,$B30) | D30: =COUNTIF(D$6:D$25,$B30) | E30: =COUNTIF(E$6:E$25,$B30) | F30: =COUNTIF(F$6:F$25,$B30) | G30: =COUNTIF(G$6:G$25,$B30) | H30: =COUNTIF(H$6:H$25,$B30) | I30: =COUNTIF(I$6:I$25,$B30)
B31: Half day | C31: =COUNTIF(C$6:C$25,$B31) | D31: =COUNTIF(D$6:D$25,$B31) | E31: =COUNTIF(E$6:E$25,$B31) | F31: =COUNTIF(F$6:F$25,$B31) | G31: =COUNTIF(G$6:G$25,$B31) | H31: =COUNTIF(H$6:H$25,$B31) | I31: =COUNTIF(I$6:I$25,$B31)
B32: OFF | C32: =COUNTIF(C$6:C$25,$B32) | D32: =COUNTIF(D$6:D$25,$B32) | E32: =COUNTIF(E$6:E$25,$B32) | F32: =COUNTIF(F$6:F$25,$B32) | G32: =COUNTIF(G$6:G$25,$B32) | H32: =COUNTIF(H$6:H$25,$B32) | I32: =COUNTIF(I$6:I$25,$B32)
B33: Leave | C33: =COUNTIF(C$6:C$25,$B33) | D33: =COUNTIF(D$6:D$25,$B33) | E33: =COUNTIF(E$6:E$25,$B33) | F33: =COUNTIF(F$6:F$25,$B33) | G33: =COUNTIF(G$6:G$25,$B33) | H33: =COUNTIF(H$6:H$25,$B33) | I33: =COUNTIF(I$6:I$25,$B33)

Sheet Shifts
A1: Shift types
A2: Edit names, times and hours here. The drop-downs and totals use this table.
A4: Shift | B4: Start | C4: End | D4: Paid hours
A5: Morning | B5: 07:00 | C5: 15:00 | D5: 8
A6: Evening | B6: 15:00 | C6: 23:00 | D6: 8
A7: Night | B7: 23:00 | C7: 07:00 | D7: 8
A8: Half day | B8: 08:00 | C8: 12:00 | D8: 4
A9: OFF | D9: 0
A10: Leave | D10: 0

Sheet How to use
A1: How to use this template
A2: Free template from simplifylearn.com
A4: Quick start
A5: 1. Type the first day of your week in the yellow cell (Schedule!B3). The day headers update automatically.
A6: 2. Replace the sample names and roles with your team (up to 20 people).
A7: 3. Click any day cell and pick a shift from the drop-down list.
A8: 4. Total hours and days off calculate automatically. Weekly totals over 48 hours turn red.
A9: 5. The "Staff on shift per day" table at the bottom shows how many people work each shift every day.
A10: 6. To change shift names or hours, edit the Shifts sheet. Keep the list in rows 5–10.
A11: 7. To plan a new week: right-click the Schedule tab → Move or Copy → Create a copy, then change the date.
A13: Works in Excel 2016 or later, Excel for the web and Google Sheets (File → Import).
