Workbook

Sheet Employees
A1: Employee Leave Tracker
A2: Set each person's annual entitlement. Leave taken, pending and remaining balances update from the Leave Log.
A3: Year: | B3: 2026 | C3: Only leave starting in this year is counted.
A5: Employee | B5: Department | C5: Annual entitlement | D5: Carried over | E5: Annual taken | F5: Annual pending | G5: Annual remaining | H5: Sick days | I5: Other leave | J5: Notes
A6: Sara Ali | B6: Admin | C6: 30 | D6: 2 | E6: =IF(A6="","",SUMIFS('Leave Log'!$E$5:$E$304,'Leave Log'!$A$5:$A$304,A6,'Leave Log'!$B$5:$B$304,"Annual leave",'Leave Log'!$F$5:$F$304,"Approved",'Leave Log'!$C$5:$C$304,">="&DATE($B$3,1,1),'Leave Log'!$C$5:$C$304,"<="&DATE($B$3,12,31))) | F6: =IF(A6="","",SUMIFS('Leave Log'!$E$5:$E$304,'Leave Log'!$A$5:$A$304,A6,'Leave Log'!$B$5:$B$304,"Annual leave",'Leave Log'!$F$5:$F$304,"Pending",'Leave Log'!$C$5:$C$304,">="&DATE($B$3,1,1),'Leave Log'!$C$5:$C$304,"<="&DATE($B$3,12,31))) | G6: =IF(A6="","",C6+D6-E6) | H6: =IF(A6="","",SUMIFS('Leave Log'!$E$5:$E$304,'Leave Log'!$A$5:$A$304,A6,'Leave Log'!$B$5:$B$304,"Sick leave",'Leave Log'!$F$5:$F$304,"Approved",'Leave Log'!$C$5:$C$304,">="&DATE($B$3,1,1),'Leave Log'!$C$5:$C$304,"<="&DATE($B$3,12,31))) | I6: =IF(A6="","",SUMIFS('Leave Log'!$E$5:$E$304,'Leave Log'!$A$5:$A$304,A6,'Leave Log'!$F$5:$F$304,"Approved",'Leave Log'!$C$5:$C$304,">="&DATE($B$3,1,1),'Leave Log'!$C$5:$C$304,"<="&DATE($B$3,12,31))-E6-H6)
A7: Omar Khalid | B7: Sales | C7: 30 | D7: 0 | E7: =IF(A7="","",SUMIFS('Leave Log'!$E$5:$E$304,'Leave Log'!$A$5:$A$304,A7,'Leave Log'!$B$5:$B$304,"Annual leave",'Leave Log'!$F$5:$F$304,"Approved",'Leave Log'!$C$5:$C$304,">="&DATE($B$3,1,1),'Leave Log'!$C$5:$C$304,"<="&DATE($B$3,12,31))) | F7: =IF(A7="","",SUMIFS('Leave Log'!$E$5:$E$304,'Leave Log'!$A$5:$A$304,A7,'Leave Log'!$B$5:$B$304,"Annual leave",'Leave Log'!$F$5:$F$304,"Pending",'Leave Log'!$C$5:$C$304,">="&DATE($B$3,1,1),'Leave Log'!$C$5:$C$304,"<="&DATE($B$3,12,31))) | G7: =IF(A7="","",C7+D7-E7) | H7: =IF(A7="","",SUMIFS('Leave Log'!$E$5:$E$304,'Leave Log'!$A$5:$A$304,A7,'Leave Log'!$B$5:$B$304,"Sick leave",'Leave Log'!$F$5:$F$304,"Approved",'Leave Log'!$C$5:$C$304,">="&DATE($B$3,1,1),'Leave Log'!$C$5:$C$304,"<="&DATE($B$3,12,31))) | I7: =IF(A7="","",SUMIFS('Leave Log'!$E$5:$E$304,'Leave Log'!$A$5:$A$304,A7,'Leave Log'!$F$5:$F$304,"Approved",'Leave Log'!$C$5:$C$304,">="&DATE($B$3,1,1),'Leave Log'!$C$5:$C$304,"<="&DATE($B$3,12,31))-E7-H7)
A8: Noor Hassan | B8: Finance | C8: 30 | D8: 5 | E8: =IF(A8="","",SUMIFS('Leave Log'!$E$5:$E$304,'Leave Log'!$A$5:$A$304,A8,'Leave Log'!$B$5:$B$304,"Annual leave",'Leave Log'!$F$5:$F$304,"Approved",'Leave Log'!$C$5:$C$304,">="&DATE($B$3,1,1),'Leave Log'!$C$5:$C$304,"<="&DATE($B$3,12,31))) | F8: =IF(A8="","",SUMIFS('Leave Log'!$E$5:$E$304,'Leave Log'!$A$5:$A$304,A8,'Leave Log'!$B$5:$B$304,"Annual leave",'Leave Log'!$F$5:$F$304,"Pending",'Leave Log'!$C$5:$C$304,">="&DATE($B$3,1,1),'Leave Log'!$C$5:$C$304,"<="&DATE($B$3,12,31))) | G8: =IF(A8="","",C8+D8-E8) | H8: =IF(A8="","",SUMIFS('Leave Log'!$E$5:$E$304,'Leave Log'!$A$5:$A$304,A8,'Leave Log'!$B$5:$B$304,"Sick leave",'Leave Log'!$F$5:$F$304,"Approved",'Leave Log'!$C$5:$C$304,">="&DATE($B$3,1,1),'Leave Log'!$C$5:$C$304,"<="&DATE($B$3,12,31))) | I8: =IF(A8="","",SUMIFS('Leave Log'!$E$5:$E$304,'Leave Log'!$A$5:$A$304,A8,'Leave Log'!$F$5:$F$304,"Approved",'Leave Log'!$C$5:$C$304,">="&DATE($B$3,1,1),'Leave Log'!$C$5:$C$304,"<="&DATE($B$3,12,31))-E8-H8)
A9: Ali Ahmed | B9: Operations | C9: 21 | D9: 0 | E9: =IF(A9="","",SUMIFS('Leave Log'!$E$5:$E$304,'Leave Log'!$A$5:$A$304,A9,'Leave Log'!$B$5:$B$304,"Annual leave",'Leave Log'!$F$5:$F$304,"Approved",'Leave Log'!$C$5:$C$304,">="&DATE($B$3,1,1),'Leave Log'!$C$5:$C$304,"<="&DATE($B$3,12,31))) | F9: =IF(A9="","",SUMIFS('Leave Log'!$E$5:$E$304,'Leave Log'!$A$5:$A$304,A9,'Leave Log'!$B$5:$B$304,"Annual leave",'Leave Log'!$F$5:$F$304,"Pending",'Leave Log'!$C$5:$C$304,">="&DATE($B$3,1,1),'Leave Log'!$C$5:$C$304,"<="&DATE($B$3,12,31))) | G9: =IF(A9="","",C9+D9-E9) | H9: =IF(A9="","",SUMIFS('Leave Log'!$E$5:$E$304,'Leave Log'!$A$5:$A$304,A9,'Leave Log'!$B$5:$B$304,"Sick leave",'Leave Log'!$F$5:$F$304,"Approved",'Leave Log'!$C$5:$C$304,">="&DATE($B$3,1,1),'Leave Log'!$C$5:$C$304,"<="&DATE($B$3,12,31))) | I9: =IF(A9="","",SUMIFS('Leave Log'!$E$5:$E$304,'Leave Log'!$A$5:$A$304,A9,'Leave Log'!$F$5:$F$304,"Approved",'Leave Log'!$C$5:$C$304,">="&DATE($B$3,1,1),'Leave Log'!$C$5:$C$304,"<="&DATE($B$3,12,31))-E9-H9)
A10: Huda Saleh | B10: Sales | C10: 21 | D10: 3 | E10: =IF(A10="","",SUMIFS('Leave Log'!$E$5:$E$304,'Leave Log'!$A$5:$A$304,A10,'Leave Log'!$B$5:$B$304,"Annual leave",'Leave Log'!$F$5:$F$304,"Approved",'Leave Log'!$C$5:$C$304,">="&DATE($B$3,1,1),'Leave Log'!$C$5:$C$304,"<="&DATE($B$3,12,31))) | F10: =IF(A10="","",SUMIFS('Leave Log'!$E$5:$E$304,'Leave Log'!$A$5:$A$304,A10,'Leave Log'!$B$5:$B$304,"Annual leave",'Leave Log'!$F$5:$F$304,"Pending",'Leave Log'!$C$5:$C$304,">="&DATE($B$3,1,1),'Leave Log'!$C$5:$C$304,"<="&DATE($B$3,12,31))) | G10: =IF(A10="","",C10+D10-E10) | H10: =IF(A10="","",SUMIFS('Leave Log'!$E$5:$E$304,'Leave Log'!$A$5:$A$304,A10,'Leave Log'!$B$5:$B$304,"Sick leave",'Leave Log'!$F$5:$F$304,"Approved",'Leave Log'!$C$5:$C$304,">="&DATE($B$3,1,1),'Leave Log'!$C$5:$C$304,"<="&DATE($B$3,12,31))) | I10: =IF(A10="","",SUMIFS('Leave Log'!$E$5:$E$304,'Leave Log'!$A$5:$A$304,A10,'Leave Log'!$F$5:$F$304,"Approved",'Leave Log'!$C$5:$C$304,">="&DATE($B$3,1,1),'Leave Log'!$C$5:$C$304,"<="&DATE($B$3,12,31))-E10-H10)
E11: =IF(A11="","",SUMIFS('Leave Log'!$E$5:$E$304,'Leave Log'!$A$5:$A$304,A11,'Leave Log'!$B$5:$B$304,"Annual leave",'Leave Log'!$F$5:$F$304,"Approved",'Leave Log'!$C$5:$C$304,">="&DATE($B$3,1,1),'Leave Log'!$C$5:$C$304,"<="&DATE($B$3,12,31))) | F11: =IF(A11="","",SUMIFS('Leave Log'!$E$5:$E$304,'Leave Log'!$A$5:$A$304,A11,'Leave Log'!$B$5:$B$304,"Annual leave",'Leave Log'!$F$5:$F$304,"Pending",'Leave Log'!$C$5:$C$304,">="&DATE($B$3,1,1),'Leave Log'!$C$5:$C$304,"<="&DATE($B$3,12,31))) | G11: =IF(A11="","",C11+D11-E11) | H11: =IF(A11="","",SUMIFS('Leave Log'!$E$5:$E$304,'Leave Log'!$A$5:$A$304,A11,'Leave Log'!$B$5:$B$304,"Sick leave",'Leave Log'!$F$5:$F$304,"Approved",'Leave Log'!$C$5:$C$304,">="&DATE($B$3,1,1),'Leave Log'!$C$5:$C$304,"<="&DATE($B$3,12,31))) | I11: =IF(A11="","",SUMIFS('Leave Log'!$E$5:$E$304,'Leave Log'!$A$5:$A$304,A11,'Leave Log'!$F$5:$F$304,"Approved",'Leave Log'!$C$5:$C$304,">="&DATE($B$3,1,1),'Leave Log'!$C$5:$C$304,"<="&DATE($B$3,12,31))-E11-H11)
E12: =IF(A12="","",SUMIFS('Leave Log'!$E$5:$E$304,'Leave Log'!$A$5:$A$304,A12,'Leave Log'!$B$5:$B$304,"Annual leave",'Leave Log'!$F$5:$F$304,"Approved",'Leave Log'!$C$5:$C$304,">="&DATE($B$3,1,1),'Leave Log'!$C$5:$C$304,"<="&DATE($B$3,12,31))) | F12: =IF(A12="","",SUMIFS('Leave Log'!$E$5:$E$304,'Leave Log'!$A$5:$A$304,A12,'Leave Log'!$B$5:$B$304,"Annual leave",'Leave Log'!$F$5:$F$304,"Pending",'Leave Log'!$C$5:$C$304,">="&DATE($B$3,1,1),'Leave Log'!$C$5:$C$304,"<="&DATE($B$3,12,31))) | G12: =IF(A12="","",C12+D12-E12) | H12: =IF(A12="","",SUMIFS('Leave Log'!$E$5:$E$304,'Leave Log'!$A$5:$A$304,A12,'Leave Log'!$B$5:$B$304,"Sick leave",'Leave Log'!$F$5:$F$304,"Approved",'Leave Log'!$C$5:$C$304,">="&DATE($B$3,1,1),'Leave Log'!$C$5:$C$304,"<="&DATE($B$3,12,31))) | I12: =IF(A12="","",SUMIFS('Leave Log'!$E$5:$E$304,'Leave Log'!$A$5:$A$304,A12,'Leave Log'!$F$5:$F$304,"Approved",'Leave Log'!$C$5:$C$304,">="&DATE($B$3,1,1),'Leave Log'!$C$5:$C$304,"<="&DATE($B$3,12,31))-E12-H12)
E13: =IF(A13="","",SUMIFS('Leave Log'!$E$5:$E$304,'Leave Log'!$A$5:$A$304,A13,'Leave Log'!$B$5:$B$304,"Annual leave",'Leave Log'!$F$5:$F$304,"Approved",'Leave Log'!$C$5:$C$304,">="&DATE($B$3,1,1),'Leave Log'!$C$5:$C$304,"<="&DATE($B$3,12,31))) | F13: =IF(A13="","",SUMIFS('Leave Log'!$E$5:$E$304,'Leave Log'!$A$5:$A$304,A13,'Leave Log'!$B$5:$B$304,"Annual leave",'Leave Log'!$F$5:$F$304,"Pending",'Leave Log'!$C$5:$C$304,">="&DATE($B$3,1,1),'Leave Log'!$C$5:$C$304,"<="&DATE($B$3,12,31))) | G13: =IF(A13="","",C13+D13-E13) | H13: =IF(A13="","",SUMIFS('Leave Log'!$E$5:$E$304,'Leave Log'!$A$5:$A$304,A13,'Leave Log'!$B$5:$B$304,"Sick leave",'Leave Log'!$F$5:$F$304,"Approved",'Leave Log'!$C$5:$C$304,">="&DATE($B$3,1,1),'Leave Log'!$C$5:$C$304,"<="&DATE($B$3,12,31))) | I13: =IF(A13="","",SUMIFS('Leave Log'!$E$5:$E$304,'Leave Log'!$A$5:$A$304,A13,'Leave Log'!$F$5:$F$304,"Approved",'Leave Log'!$C$5:$C$304,">="&DATE($B$3,1,1),'Leave Log'!$C$5:$C$304,"<="&DATE($B$3,12,31))-E13-H13)
E14: =IF(A14="","",SUMIFS('Leave Log'!$E$5:$E$304,'Leave Log'!$A$5:$A$304,A14,'Leave Log'!$B$5:$B$304,"Annual leave",'Leave Log'!$F$5:$F$304,"Approved",'Leave Log'!$C$5:$C$304,">="&DATE($B$3,1,1),'Leave Log'!$C$5:$C$304,"<="&DATE($B$3,12,31))) | F14: =IF(A14="","",SUMIFS('Leave Log'!$E$5:$E$304,'Leave Log'!$A$5:$A$304,A14,'Leave Log'!$B$5:$B$304,"Annual leave",'Leave Log'!$F$5:$F$304,"Pending",'Leave Log'!$C$5:$C$304,">="&DATE($B$3,1,1),'Leave Log'!$C$5:$C$304,"<="&DATE($B$3,12,31))) | G14: =IF(A14="","",C14+D14-E14) | H14: =IF(A14="","",SUMIFS('Leave Log'!$E$5:$E$304,'Leave Log'!$A$5:$A$304,A14,'Leave Log'!$B$5:$B$304,"Sick leave",'Leave Log'!$F$5:$F$304,"Approved",'Leave Log'!$C$5:$C$304,">="&DATE($B$3,1,1),'Leave Log'!$C$5:$C$304,"<="&DATE($B$3,12,31))) | I14: =IF(A14="","",SUMIFS('Leave Log'!$E$5:$E$304,'Leave Log'!$A$5:$A$304,A14,'Leave Log'!$F$5:$F$304,"Approved",'Leave Log'!$C$5:$C$304,">="&DATE($B$3,1,1),'Leave Log'!$C$5:$C$304,"<="&DATE($B$3,12,31))-E14-H14)
E15: =IF(A15="","",SUMIFS('Leave Log'!$E$5:$E$304,'Leave Log'!$A$5:$A$304,A15,'Leave Log'!$B$5:$B$304,"Annual leave",'Leave Log'!$F$5:$F$304,"Approved",'Leave Log'!$C$5:$C$304,">="&DATE($B$3,1,1),'Leave Log'!$C$5:$C$304,"<="&DATE($B$3,12,31))) | F15: =IF(A15="","",SUMIFS('Leave Log'!$E$5:$E$304,'Leave Log'!$A$5:$A$304,A15,'Leave Log'!$B$5:$B$304,"Annual leave",'Leave Log'!$F$5:$F$304,"Pending",'Leave Log'!$C$5:$C$304,">="&DATE($B$3,1,1),'Leave Log'!$C$5:$C$304,"<="&DATE($B$3,12,31))) | G15: =IF(A15="","",C15+D15-E15) | H15: =IF(A15="","",SUMIFS('Leave Log'!$E$5:$E$304,'Leave Log'!$A$5:$A$304,A15,'Leave Log'!$B$5:$B$304,"Sick leave",'Leave Log'!$F$5:$F$304,"Approved",'Leave Log'!$C$5:$C$304,">="&DATE($B$3,1,1),'Leave Log'!$C$5:$C$304,"<="&DATE($B$3,12,31))) | I15: =IF(A15="","",SUMIFS('Leave Log'!$E$5:$E$304,'Leave Log'!$A$5:$A$304,A15,'Leave Log'!$F$5:$F$304,"Approved",'Leave Log'!$C$5:$C$304,">="&DATE($B$3,1,1),'Leave Log'!$C$5:$C$304,"<="&DATE($B$3,12,31))-E15-H15)
E16: =IF(A16="","",SUMIFS('Leave Log'!$E$5:$E$304,'Leave Log'!$A$5:$A$304,A16,'Leave Log'!$B$5:$B$304,"Annual leave",'Leave Log'!$F$5:$F$304,"Approved",'Leave Log'!$C$5:$C$304,">="&DATE($B$3,1,1),'Leave Log'!$C$5:$C$304,"<="&DATE($B$3,12,31))) | F16: =IF(A16="","",SUMIFS('Leave Log'!$E$5:$E$304,'Leave Log'!$A$5:$A$304,A16,'Leave Log'!$B$5:$B$304,"Annual leave",'Leave Log'!$F$5:$F$304,"Pending",'Leave Log'!$C$5:$C$304,">="&DATE($B$3,1,1),'Leave Log'!$C$5:$C$304,"<="&DATE($B$3,12,31))) | G16: =IF(A16="","",C16+D16-E16) | H16: =IF(A16="","",SUMIFS('Leave Log'!$E$5:$E$304,'Leave Log'!$A$5:$A$304,A16,'Leave Log'!$B$5:$B$304,"Sick leave",'Leave Log'!$F$5:$F$304,"Approved",'Leave Log'!$C$5:$C$304,">="&DATE($B$3,1,1),'Leave Log'!$C$5:$C$304,"<="&DATE($B$3,12,31))) | I16: =IF(A16="","",SUMIFS('Leave Log'!$E$5:$E$304,'Leave Log'!$A$5:$A$304,A16,'Leave Log'!$F$5:$F$304,"Approved",'Leave Log'!$C$5:$C$304,">="&DATE($B$3,1,1),'Leave Log'!$C$5:$C$304,"<="&DATE($B$3,12,31))-E16-H16)
E17: =IF(A17="","",SUMIFS('Leave Log'!$E$5:$E$304,'Leave Log'!$A$5:$A$304,A17,'Leave Log'!$B$5:$B$304,"Annual leave",'Leave Log'!$F$5:$F$304,"Approved",'Leave Log'!$C$5:$C$304,">="&DATE($B$3,1,1),'Leave Log'!$C$5:$C$304,"<="&DATE($B$3,12,31))) | F17: =IF(A17="","",SUMIFS('Leave Log'!$E$5:$E$304,'Leave Log'!$A$5:$A$304,A17,'Leave Log'!$B$5:$B$304,"Annual leave",'Leave Log'!$F$5:$F$304,"Pending",'Leave Log'!$C$5:$C$304,">="&DATE($B$3,1,1),'Leave Log'!$C$5:$C$304,"<="&DATE($B$3,12,31))) | G17: =IF(A17="","",C17+D17-E17) | H17: =IF(A17="","",SUMIFS('Leave Log'!$E$5:$E$304,'Leave Log'!$A$5:$A$304,A17,'Leave Log'!$B$5:$B$304,"Sick leave",'Leave Log'!$F$5:$F$304,"Approved",'Leave Log'!$C$5:$C$304,">="&DATE($B$3,1,1),'Leave Log'!$C$5:$C$304,"<="&DATE($B$3,12,31))) | I17: =IF(A17="","",SUMIFS('Leave Log'!$E$5:$E$304,'Leave Log'!$A$5:$A$304,A17,'Leave Log'!$F$5:$F$304,"Approved",'Leave Log'!$C$5:$C$304,">="&DATE($B$3,1,1),'Leave Log'!$C$5:$C$304,"<="&DATE($B$3,12,31))-E17-H17)
E18: =IF(A18="","",SUMIFS('Leave Log'!$E$5:$E$304,'Leave Log'!$A$5:$A$304,A18,'Leave Log'!$B$5:$B$304,"Annual leave",'Leave Log'!$F$5:$F$304,"Approved",'Leave Log'!$C$5:$C$304,">="&DATE($B$3,1,1),'Leave Log'!$C$5:$C$304,"<="&DATE($B$3,12,31))) | F18: =IF(A18="","",SUMIFS('Leave Log'!$E$5:$E$304,'Leave Log'!$A$5:$A$304,A18,'Leave Log'!$B$5:$B$304,"Annual leave",'Leave Log'!$F$5:$F$304,"Pending",'Leave Log'!$C$5:$C$304,">="&DATE($B$3,1,1),'Leave Log'!$C$5:$C$304,"<="&DATE($B$3,12,31))) | G18: =IF(A18="","",C18+D18-E18) | H18: =IF(A18="","",SUMIFS('Leave Log'!$E$5:$E$304,'Leave Log'!$A$5:$A$304,A18,'Leave Log'!$B$5:$B$304,"Sick leave",'Leave Log'!$F$5:$F$304,"Approved",'Leave Log'!$C$5:$C$304,">="&DATE($B$3,1,1),'Leave Log'!$C$5:$C$304,"<="&DATE($B$3,12,31))) | I18: =IF(A18="","",SUMIFS('Leave Log'!$E$5:$E$304,'Leave Log'!$A$5:$A$304,A18,'Leave Log'!$F$5:$F$304,"Approved",'Leave Log'!$C$5:$C$304,">="&DATE($B$3,1,1),'Leave Log'!$C$5:$C$304,"<="&DATE($B$3,12,31))-E18-H18)
E19: =IF(A19="","",SUMIFS('Leave Log'!$E$5:$E$304,'Leave Log'!$A$5:$A$304,A19,'Leave Log'!$B$5:$B$304,"Annual leave",'Leave Log'!$F$5:$F$304,"Approved",'Leave Log'!$C$5:$C$304,">="&DATE($B$3,1,1),'Leave Log'!$C$5:$C$304,"<="&DATE($B$3,12,31))) | F19: =IF(A19="","",SUMIFS('Leave Log'!$E$5:$E$304,'Leave Log'!$A$5:$A$304,A19,'Leave Log'!$B$5:$B$304,"Annual leave",'Leave Log'!$F$5:$F$304,"Pending",'Leave Log'!$C$5:$C$304,">="&DATE($B$3,1,1),'Leave Log'!$C$5:$C$304,"<="&DATE($B$3,12,31))) | G19: =IF(A19="","",C19+D19-E19) | H19: =IF(A19="","",SUMIFS('Leave Log'!$E$5:$E$304,'Leave Log'!$A$5:$A$304,A19,'Leave Log'!$B$5:$B$304,"Sick leave",'Leave Log'!$F$5:$F$304,"Approved",'Leave Log'!$C$5:$C$304,">="&DATE($B$3,1,1),'Leave Log'!$C$5:$C$304,"<="&DATE($B$3,12,31))) | I19: =IF(A19="","",SUMIFS('Leave Log'!$E$5:$E$304,'Leave Log'!$A$5:$A$304,A19,'Leave Log'!$F$5:$F$304,"Approved",'Leave Log'!$C$5:$C$304,">="&DATE($B$3,1,1),'Leave Log'!$C$5:$C$304,"<="&DATE($B$3,12,31))-E19-H19)
E20: =IF(A20="","",SUMIFS('Leave Log'!$E$5:$E$304,'Leave Log'!$A$5:$A$304,A20,'Leave Log'!$B$5:$B$304,"Annual leave",'Leave Log'!$F$5:$F$304,"Approved",'Leave Log'!$C$5:$C$304,">="&DATE($B$3,1,1),'Leave Log'!$C$5:$C$304,"<="&DATE($B$3,12,31))) | F20: =IF(A20="","",SUMIFS('Leave Log'!$E$5:$E$304,'Leave Log'!$A$5:$A$304,A20,'Leave Log'!$B$5:$B$304,"Annual leave",'Leave Log'!$F$5:$F$304,"Pending",'Leave Log'!$C$5:$C$304,">="&DATE($B$3,1,1),'Leave Log'!$C$5:$C$304,"<="&DATE($B$3,12,31))) | G20: =IF(A20="","",C20+D20-E20) | H20: =IF(A20="","",SUMIFS('Leave Log'!$E$5:$E$304,'Leave Log'!$A$5:$A$304,A20,'Leave Log'!$B$5:$B$304,"Sick leave",'Leave Log'!$F$5:$F$304,"Approved",'Leave Log'!$C$5:$C$304,">="&DATE($B$3,1,1),'Leave Log'!$C$5:$C$304,"<="&DATE($B$3,12,31))) | I20: =IF(A20="","",SUMIFS('Leave Log'!$E$5:$E$304,'Leave Log'!$A$5:$A$304,A20,'Leave Log'!$F$5:$F$304,"Approved",'Leave Log'!$C$5:$C$304,">="&DATE($B$3,1,1),'Leave Log'!$C$5:$C$304,"<="&DATE($B$3,12,31))-E20-H20)
E21: =IF(A21="","",SUMIFS('Leave Log'!$E$5:$E$304,'Leave Log'!$A$5:$A$304,A21,'Leave Log'!$B$5:$B$304,"Annual leave",'Leave Log'!$F$5:$F$304,"Approved",'Leave Log'!$C$5:$C$304,">="&DATE($B$3,1,1),'Leave Log'!$C$5:$C$304,"<="&DATE($B$3,12,31))) | F21: =IF(A21="","",SUMIFS('Leave Log'!$E$5:$E$304,'Leave Log'!$A$5:$A$304,A21,'Leave Log'!$B$5:$B$304,"Annual leave",'Leave Log'!$F$5:$F$304,"Pending",'Leave Log'!$C$5:$C$304,">="&DATE($B$3,1,1),'Leave Log'!$C$5:$C$304,"<="&DATE($B$3,12,31))) | G21: =IF(A21="","",C21+D21-E21) | H21: =IF(A21="","",SUMIFS('Leave Log'!$E$5:$E$304,'Leave Log'!$A$5:$A$304,A21,'Leave Log'!$B$5:$B$304,"Sick leave",'Leave Log'!$F$5:$F$304,"Approved",'Leave Log'!$C$5:$C$304,">="&DATE($B$3,1,1),'Leave Log'!$C$5:$C$304,"<="&DATE($B$3,12,31))) | I21: =IF(A21="","",SUMIFS('Leave Log'!$E$5:$E$304,'Leave Log'!$A$5:$A$304,A21,'Leave Log'!$F$5:$F$304,"Approved",'Leave Log'!$C$5:$C$304,">="&DATE($B$3,1,1),'Leave Log'!$C$5:$C$304,"<="&DATE($B$3,12,31))-E21-H21)
E22: =IF(A22="","",SUMIFS('Leave Log'!$E$5:$E$304,'Leave Log'!$A$5:$A$304,A22,'Leave Log'!$B$5:$B$304,"Annual leave",'Leave Log'!$F$5:$F$304,"Approved",'Leave Log'!$C$5:$C$304,">="&DATE($B$3,1,1),'Leave Log'!$C$5:$C$304,"<="&DATE($B$3,12,31))) | F22: =IF(A22="","",SUMIFS('Leave Log'!$E$5:$E$304,'Leave Log'!$A$5:$A$304,A22,'Leave Log'!$B$5:$B$304,"Annual leave",'Leave Log'!$F$5:$F$304,"Pending",'Leave Log'!$C$5:$C$304,">="&DATE($B$3,1,1),'Leave Log'!$C$5:$C$304,"<="&DATE($B$3,12,31))) | G22: =IF(A22="","",C22+D22-E22) | H22: =IF(A22="","",SUMIFS('Leave Log'!$E$5:$E$304,'Leave Log'!$A$5:$A$304,A22,'Leave Log'!$B$5:$B$304,"Sick leave",'Leave Log'!$F$5:$F$304,"Approved",'Leave Log'!$C$5:$C$304,">="&DATE($B$3,1,1),'Leave Log'!$C$5:$C$304,"<="&DATE($B$3,12,31))) | I22: =IF(A22="","",SUMIFS('Leave Log'!$E$5:$E$304,'Leave Log'!$A$5:$A$304,A22,'Leave Log'!$F$5:$F$304,"Approved",'Leave Log'!$C$5:$C$304,">="&DATE($B$3,1,1),'Leave Log'!$C$5:$C$304,"<="&DATE($B$3,12,31))-E22-H22)
... E55: =IF(A55="","",SUMIFS('Leave Log'!$E$5:$E$304,'Leave Log'!$A$5:$A$304,A55,'Leave Log'!$B$5:$B$304,"Annual leave",'Leave Log'!$F$5:$F$304,"Approved",'Leave Log'!$C$5:$C$304,">="&DATE($B$3,1,1),'Leave Log'!$C$5:$C$304,"<="&DATE($B$3,12,31))) | F55: =IF(A55="","",SUMIFS('Leave Log'!$E$5:$E$304,'Leave Log'!$A$5:$A$304,A55,'Leave Log'!$B$5:$B$304,"Annual leave",'Leave Log'!$F$5:$F$304,"Pending",'Leave Log'!$C$5:$C$304,">="&DATE($B$3,1,1),'Leave Log'!$C$5:$C$304,"<="&DATE($B$3,12,31))) | G55: =IF(A55="","",C55+D55-E55) | H55: =IF(A55="","",SUMIFS('Leave Log'!$E$5:$E$304,'Leave Log'!$A$5:$A$304,A55,'Leave Log'!$B$5:$B$304,"Sick leave",'Leave Log'!$F$5:$F$304,"Approved",'Leave Log'!$C$5:$C$304,">="&DATE($B$3,1,1),'Leave Log'!$C$5:$C$304,"<="&DATE($B$3,12,31))) | I55: =IF(A55="","",SUMIFS('Leave Log'!$E$5:$E$304,'Leave Log'!$A$5:$A$304,A55,'Leave Log'!$F$5:$F$304,"Approved",'Leave Log'!$C$5:$C$304,">="&DATE($B$3,1,1),'Leave Log'!$C$5:$C$304,"<="&DATE($B$3,12,31))-E55-H55)

Sheet Leave Log
A1: Leave Log
A2: One row per leave request. Working days exclude Fridays, Saturdays and the dates on the Holidays sheet.
A4: Employee | B4: Leave type | C4: From | D4: To | E4: Working days | F4: Status | G4: Approved by | H4: Notes
A5: Sara Ali | B5: Annual leave | C5: 46033.875 | D5: 46037.875 | E5: =IF(OR(C5="",D5=""),"",NETWORKDAYS.INTL(C5,D5,7,Holidays!$A$5:$A$40)) | F5: Approved | G5: Manager
A6: Omar Khalid | B6: Sick leave | C6: 46055.875 | D6: 46056.875 | E6: =IF(OR(C6="",D6=""),"",NETWORKDAYS.INTL(C6,D6,7,Holidays!$A$5:$A$40)) | F6: Approved | G6: Manager
A7: Noor Hassan | B7: Annual leave | C7: 46088.875 | D7: 46099.875 | E7: =IF(OR(C7="",D7=""),"",NETWORKDAYS.INTL(C7,D7,7,Holidays!$A$5:$A$40)) | F7: Approved | G7: Manager
A8: Ali Ahmed | B8: Emergency leave | C8: 46117.875 | D8: 46117.875 | E8: =IF(OR(C8="",D8=""),"",NETWORKDAYS.INTL(C8,D8,7,Holidays!$A$5:$A$40)) | F8: Approved | G8: Manager
A9: Huda Saleh | B9: Annual leave | C9: 46173.875 | D9: 46184.875 | E9: =IF(OR(C9="",D9=""),"",NETWORKDAYS.INTL(C9,D9,7,Holidays!$A$5:$A$40)) | F9: Approved | G9: Manager
A10: Sara Ali | B10: Annual leave | C10: 46348.875 | D10: 46352.875 | E10: =IF(OR(C10="",D10=""),"",NETWORKDAYS.INTL(C10,D10,7,Holidays!$A$5:$A$40)) | F10: Pending
E11: =IF(OR(C11="",D11=""),"",NETWORKDAYS.INTL(C11,D11,7,Holidays!$A$5:$A$40))
E12: =IF(OR(C12="",D12=""),"",NETWORKDAYS.INTL(C12,D12,7,Holidays!$A$5:$A$40))
E13: =IF(OR(C13="",D13=""),"",NETWORKDAYS.INTL(C13,D13,7,Holidays!$A$5:$A$40))
E14: =IF(OR(C14="",D14=""),"",NETWORKDAYS.INTL(C14,D14,7,Holidays!$A$5:$A$40))
E15: =IF(OR(C15="",D15=""),"",NETWORKDAYS.INTL(C15,D15,7,Holidays!$A$5:$A$40))
E16: =IF(OR(C16="",D16=""),"",NETWORKDAYS.INTL(C16,D16,7,Holidays!$A$5:$A$40))
E17: =IF(OR(C17="",D17=""),"",NETWORKDAYS.INTL(C17,D17,7,Holidays!$A$5:$A$40))
E18: =IF(OR(C18="",D18=""),"",NETWORKDAYS.INTL(C18,D18,7,Holidays!$A$5:$A$40))
E19: =IF(OR(C19="",D19=""),"",NETWORKDAYS.INTL(C19,D19,7,Holidays!$A$5:$A$40))
E20: =IF(OR(C20="",D20=""),"",NETWORKDAYS.INTL(C20,D20,7,Holidays!$A$5:$A$40))
E21: =IF(OR(C21="",D21=""),"",NETWORKDAYS.INTL(C21,D21,7,Holidays!$A$5:$A$40))
E22: =IF(OR(C22="",D22=""),"",NETWORKDAYS.INTL(C22,D22,7,Holidays!$A$5:$A$40))
... E304: =IF(OR(C304="",D304=""),"",NETWORKDAYS.INTL(C304,D304,7,Holidays!$A$5:$A$40))

Sheet Holidays
A1: Public holidays
A2: Add your official holidays for the year. They are excluded from working days.
A4: Date | B4: Holiday
A5: 46022.875 | B5: New Year's Day
B6: (add your holidays below)

Sheet Lists
A1: Leave type | C1: Status
A2: Annual leave | C2: Approved
A3: Sick leave | C3: Pending
A4: Emergency leave | C4: Rejected
A5: Unpaid leave
A6: Maternity / paternity leave
A7: Hajj leave
A8: Other

Sheet How to use
A1: How to use this template
A2: Free template from simplifylearn.com
A4: Quick start
A5: 1. Employees sheet: set the year (B3) and add each employee with their annual leave entitlement and any days carried over from last year.
A6: 2. Holidays sheet: add the official public holidays for your country. They are not counted as working days.
A7: 3. Leave Log: add one row per leave request — pick the employee and leave type from the drop-downs, enter the dates and the status.
A8: 4. Working days are calculated automatically, excluding Fridays, Saturdays and holidays.
A9: 5. Only Approved leave reduces the balance. Pending annual leave is shown separately so you can plan.
A10: 6. Remaining annual leave turns orange at 5 days or less and red if it goes negative.
A12: Weekend is Saturday–Sunday? Replace the 7 in the Working days formula (NETWORKDAYS.INTL) with 1.
A13: Entitlements and leave rules differ by country and contract — check your local labor law and company policy.
A14: Works in Excel 2016 or later, Excel for the web and Google Sheets (File → Import).
